BEGIN:VCALENDAR
VERSION:2.0
PRODID:-//Unitarian Universalist Congregation of Asheville - ECPv6.15.20//NONSGML v1.0//EN
CALSCALE:GREGORIAN
METHOD:PUBLISH
X-WR-CALNAME:Unitarian Universalist Congregation of Asheville
X-ORIGINAL-URL:https://uuasheville.org
X-WR-CALDESC:Events for Unitarian Universalist Congregation of Asheville
REFRESH-INTERVAL;VALUE=DURATION:PT1H
X-Robots-Tag:noindex
X-PUBLISHED-TTL:PT1H
BEGIN:VTIMEZONE
TZID:America/New_York
BEGIN:DAYLIGHT
TZOFFSETFROM:-0500
TZOFFSETTO:-0400
TZNAME:EDT
DTSTART:20240310T070000
END:DAYLIGHT
BEGIN:STANDARD
TZOFFSETFROM:-0400
TZOFFSETTO:-0500
TZNAME:EST
DTSTART:20241103T060000
END:STANDARD
BEGIN:DAYLIGHT
TZOFFSETFROM:-0500
TZOFFSETTO:-0400
TZNAME:EDT
DTSTART:20250309T070000
END:DAYLIGHT
BEGIN:STANDARD
TZOFFSETFROM:-0400
TZOFFSETTO:-0500
TZNAME:EST
DTSTART:20251102T060000
END:STANDARD
BEGIN:DAYLIGHT
TZOFFSETFROM:-0500
TZOFFSETTO:-0400
TZNAME:EDT
DTSTART:20260308T070000
END:DAYLIGHT
BEGIN:STANDARD
TZOFFSETFROM:-0400
TZOFFSETTO:-0500
TZNAME:EST
DTSTART:20261101T060000
END:STANDARD
END:VTIMEZONE
BEGIN:VEVENT
DTSTART;TZID=America/New_York:20251005T101500
DTEND;TZID=America/New_York:20251005T111500
DTSTAMP:20260421T122840
CREATED:20260107T005442Z
LAST-MODIFIED:20260107T005442Z
UID:10002120-1759659300-1759662900@uuasheville.org
SUMMARY:Coffee Hour
DESCRIPTION:CalendarWiz export on Jan 6\, 2026
URL:https://uuasheville.org/event/coffee-hour-13/
LOCATION:1 Sandburg Hall/Kitchen\, 1 Edwin Pl\, Asheville\, NC\, 28801\, United States
CATEGORIES:*Social Groups - LOVING
END:VEVENT
BEGIN:VEVENT
DTSTART;TZID=America/New_York:20251007T180000
DTEND;TZID=America/New_York:20251007T200000
DTSTAMP:20260421T122840
CREATED:20260107T005547Z
LAST-MODIFIED:20260107T005547Z
UID:10002135-1759860000-1759867200@uuasheville.org
SUMMARY:Queer Qonversations - Pride+
DESCRIPTION:Contact: Emily Brier\nEmail: blair.emilyc@gmail.com \nCalendarWiz export on Jan 6\, 2026
URL:https://uuasheville.org/event/queer-qonversations-pride-4/
LOCATION:23 Ed Parlor\, 23 Edwin Place\, Asheville\, NC\, 28801\, United States
CATEGORIES:*Social Groups - LOVING
ORGANIZER;CN="Emily Brier":MAILTO:blair.emilyc@gmail.com
END:VEVENT
BEGIN:VEVENT
DTSTART;TZID=America/New_York:20251007T190000
DTEND;TZID=America/New_York:20251007T210000
DTSTAMP:20260421T122840
CREATED:20260107T005547Z
LAST-MODIFIED:20260107T005547Z
UID:10002136-1759863600-1759870800@uuasheville.org
SUMMARY:Sing Along
DESCRIPTION:All are welcome to join singers young and old as Dave Bates leads a sing-along of popular tunes (often from musicals) just for the fun of it. \nContact: Barbara Wallk\nEmail: melbawallk@hotmail.com\nPhone: 321-442-3219 \nCalendarWiz export on Jan 6\, 2026
URL:https://uuasheville.org/event/sing-along-7/
LOCATION:*1 Sanctuary\, 1 Edwin Place\, Asheville\, NC\, 28801\, United States
CATEGORIES:*Social Groups - LOVING
ORGANIZER;CN="Barbara Wallk":MAILTO:melbawallk@hotmail.com
END:VEVENT
BEGIN:VEVENT
DTSTART;TZID=America/New_York:20251011T080000
DTEND;TZID=America/New_York:20251011T110000
DTSTAMP:20260421T122840
CREATED:20260107T005730Z
LAST-MODIFIED:20260107T005730Z
UID:10002155-1760169600-1760180400@uuasheville.org
SUMMARY:Men's Breakfast Discussion Group
DESCRIPTION: New Comer FriendlyYes\, we are back to sharing a potluck breakfast prior to the business portion of the day. We have returned to two hosts providing the main item a the rest potluck\, with the hosts responsible for the topic of he day.  We also continue to Zoom the Discussion portion and we have arranged for the zoom to be open at 8 AM so those who zoom can “meet” prior to the discussion for some social contact. We continue to meet at 23 Edwin on the second Saturday of the month 8 AM for Breakfast and 9 AM for discussion. You may attend at either times. You need not attend the Breakfast\, but we highly recommend that you do. Come and have breakfast with us. Contact Michael Beech @ mandjbeech@icloud.com for information or Charlie St Clare at charlie42stclair@gmail.com for the Zoom Link. \nContact: Michael Beech\nEmail: akeeneredge@yahoo.com\nPhone: 828-316-1719 \nCalendarWiz export on Jan 6\, 2026
URL:https://uuasheville.org/event/mens-breakfast-discussion-group-4/
LOCATION:23 Ed Board\, 23 Edwin Place\, Asheville\, NC\, 28801\, United States
CATEGORIES:*Social Groups - LOVING
ORGANIZER;CN="Michael Beech":MAILTO:akeeneredge@yahoo.com
END:VEVENT
END:VCALENDAR