BEGIN:VCALENDAR
VERSION:2.0
PRODID:-//Unitarian Universalist Congregation of Asheville - ECPv6.15.20//NONSGML v1.0//EN
CALSCALE:GREGORIAN
METHOD:PUBLISH
X-ORIGINAL-URL:https://uuasheville.org
X-WR-CALDESC:Events for Unitarian Universalist Congregation of Asheville
REFRESH-INTERVAL;VALUE=DURATION:PT1H
X-Robots-Tag:noindex
X-PUBLISHED-TTL:PT1H
BEGIN:VTIMEZONE
TZID:America/New_York
BEGIN:DAYLIGHT
TZOFFSETFROM:-0500
TZOFFSETTO:-0400
TZNAME:EDT
DTSTART:20240310T070000
END:DAYLIGHT
BEGIN:STANDARD
TZOFFSETFROM:-0400
TZOFFSETTO:-0500
TZNAME:EST
DTSTART:20241103T060000
END:STANDARD
BEGIN:DAYLIGHT
TZOFFSETFROM:-0500
TZOFFSETTO:-0400
TZNAME:EDT
DTSTART:20250309T070000
END:DAYLIGHT
BEGIN:STANDARD
TZOFFSETFROM:-0400
TZOFFSETTO:-0500
TZNAME:EST
DTSTART:20251102T060000
END:STANDARD
BEGIN:DAYLIGHT
TZOFFSETFROM:-0500
TZOFFSETTO:-0400
TZNAME:EDT
DTSTART:20260308T070000
END:DAYLIGHT
BEGIN:STANDARD
TZOFFSETFROM:-0400
TZOFFSETTO:-0500
TZNAME:EST
DTSTART:20261101T060000
END:STANDARD
END:VTIMEZONE
BEGIN:VEVENT
DTSTART;TZID=America/New_York:20250803T110000
DTEND;TZID=America/New_York:20250803T120000
DTSTAMP:20260421T123009
CREATED:20260107T002905Z
LAST-MODIFIED:20260107T002905Z
UID:10001855-1754218800-1754222400@uuasheville.org
SUMMARY:Coffee Hour
DESCRIPTION:CalendarWiz export on Jan 6\, 2026
URL:https://uuasheville.org/event/coffee-hour-5/
LOCATION:1 Sandburg Hall/Kitchen\, 1 Edwin Pl\, Asheville\, NC\, 28801\, United States
CATEGORIES:*Social Groups - LOVING
END:VEVENT
BEGIN:VEVENT
DTSTART;TZID=America/New_York:20250803T170000
DTEND;TZID=America/New_York:20250803T193000
DTSTAMP:20260421T123009
CREATED:20260107T002905Z
LAST-MODIFIED:20260107T002905Z
UID:10001857-1754240400-1754249400@uuasheville.org
SUMMARY:CUUPS Lammas Celebration
DESCRIPTION:Join Blue Ridge Spirit CUUPS to celebrate and make corn dollies in the spirit of Lammas!  \n– Set Up: 4-5 PM– Event Time (Ceremony/Celebration): 5-7:30 PM– Clean Up: 7:30-8 PM \nLammas (Lughnasadh) – Pagan/WiccanLammas\, also known as Loafmas or Lughnasadh\, commemorates the harvest of the first grains\, primarily for breadmaking. Lughnasadh itself is named after Lugh\, a Celtic deity associated with grain. Lammas celebrations include feasting\, crafting corn dollies\, and participating in games and contests as a way to honor Lugh and the bounty of the season. (from https://orsl.usc.edu/life/pagan-wicca-holy-days-calendar/) \n\nFor more information on CUUPS events contact Susan Foster or Sherry Lundquist. \nContact: Sherry Lundquist\nEmail: sherry_lundquist@yahoo.com \nCalendarWiz export on Jan 6\, 2026
URL:https://uuasheville.org/event/cuups-lammas-celebration/
LOCATION:*1 Sanctuary\, 1 Edwin Place\, Asheville\, NC\, 28801\, United States
CATEGORIES:*Social Groups - LOVING
ORGANIZER;CN="Sherry Lundquist":MAILTO:sherry_lundquist@yahoo.com
END:VEVENT
BEGIN:VEVENT
DTSTART;TZID=America/New_York:20250805T180000
DTEND;TZID=America/New_York:20250805T200000
DTSTAMP:20260421T123009
CREATED:20260107T003031Z
LAST-MODIFIED:20260107T003031Z
UID:10001865-1754416800-1754424000@uuasheville.org
SUMMARY:Queer Qonversations - Pride+
DESCRIPTION:Contact: Emily Brier\nEmail: blair.emilyc@gmail.com \nCalendarWiz export on Jan 6\, 2026
URL:https://uuasheville.org/event/queer-qonversations-pride-2/
LOCATION:23 Ed Parlor\, 23 Edwin Place\, Asheville\, NC\, 28801\, United States
CATEGORIES:*Social Groups - LOVING
ORGANIZER;CN="Emily Brier":MAILTO:blair.emilyc@gmail.com
END:VEVENT
BEGIN:VEVENT
DTSTART;TZID=America/New_York:20250805T190000
DTEND;TZID=America/New_York:20250805T210000
DTSTAMP:20260421T123009
CREATED:20260107T003031Z
LAST-MODIFIED:20260107T003031Z
UID:10001866-1754420400-1754427600@uuasheville.org
SUMMARY:Sing Along
DESCRIPTION:All are welcome to join singers young and old as Dave Bates leads a sing-along of popular tunes (often from musicals) just for the fun of it. \nContact: Barbara Wallk\nEmail: melbawallk@hotmail.com\nPhone: 321-442-3219 \nCalendarWiz export on Jan 6\, 2026
URL:https://uuasheville.org/event/sing-along-3/
LOCATION:*1 Sanctuary\, 1 Edwin Place\, Asheville\, NC\, 28801\, United States
CATEGORIES:*Social Groups - LOVING
ORGANIZER;CN="Barbara Wallk":MAILTO:melbawallk@hotmail.com
END:VEVENT
BEGIN:VEVENT
DTSTART;TZID=America/New_York:20250809T080000
DTEND;TZID=America/New_York:20250809T110000
DTSTAMP:20260421T123009
CREATED:20260107T003120Z
LAST-MODIFIED:20260107T003120Z
UID:10001875-1754726400-1754737200@uuasheville.org
SUMMARY:Men's Breakfast Discussion Group
DESCRIPTION: New Comer FriendlyYes\, we are back to cooking and sharing a pot luck breakfast prior to the business portion of the day. We have returned to two hosts providing the main item a the rest pot luck\, with the hosts responsible for the topic of he day.  We also continue to Zoom the Discussion portion and we have arranged for the zoom to be open at 8 AM so those who zoom can “meet” prior to the discussion for some social contact. We continue to meet at 23 Edwin on the second Saturday of the month 8 AM for Breakfast and 9 AM for discussion. You may attend at either times. You need not attend the Breakfast\, but we highly recommend that you do. Come and have breakfast with us. Contact Michael Beech @ mandjbeech@icloud.com for information or Charlie St Clare at charlie42stclair@gmail.com for the Zoom Link. \nContact: Michael Beech\nEmail: akeeneredge@yahoo.com\nPhone: 828-316-1719 \nCalendarWiz export on Jan 6\, 2026
URL:https://uuasheville.org/event/mens-breakfast-discussion-group-2/
LOCATION:23 Ed Board\, 23 Edwin Place\, Asheville\, NC\, 28801\, United States
CATEGORIES:*Social Groups - LOVING
ORGANIZER;CN="Michael Beech":MAILTO:akeeneredge@yahoo.com
END:VEVENT
END:VCALENDAR