BEGIN:VCALENDAR
VERSION:2.0
PRODID:-//Unitarian Universalist Congregation of Asheville - ECPv6.15.20//NONSGML v1.0//EN
CALSCALE:GREGORIAN
METHOD:PUBLISH
X-WR-CALNAME:Unitarian Universalist Congregation of Asheville
X-ORIGINAL-URL:https://uuasheville.org
X-WR-CALDESC:Events for Unitarian Universalist Congregation of Asheville
REFRESH-INTERVAL;VALUE=DURATION:PT1H
X-Robots-Tag:noindex
X-PUBLISHED-TTL:PT1H
BEGIN:VTIMEZONE
TZID:America/New_York
BEGIN:DAYLIGHT
TZOFFSETFROM:-0500
TZOFFSETTO:-0400
TZNAME:EDT
DTSTART:20250309T070000
END:DAYLIGHT
BEGIN:STANDARD
TZOFFSETFROM:-0400
TZOFFSETTO:-0500
TZNAME:EST
DTSTART:20251102T060000
END:STANDARD
BEGIN:DAYLIGHT
TZOFFSETFROM:-0500
TZOFFSETTO:-0400
TZNAME:EDT
DTSTART:20260308T070000
END:DAYLIGHT
BEGIN:STANDARD
TZOFFSETFROM:-0400
TZOFFSETTO:-0500
TZNAME:EST
DTSTART:20261101T060000
END:STANDARD
BEGIN:DAYLIGHT
TZOFFSETFROM:-0500
TZOFFSETTO:-0400
TZNAME:EDT
DTSTART:20270314T070000
END:DAYLIGHT
BEGIN:STANDARD
TZOFFSETFROM:-0400
TZOFFSETTO:-0500
TZNAME:EST
DTSTART:20271107T060000
END:STANDARD
END:VTIMEZONE
BEGIN:VEVENT
DTSTART;TZID=America/New_York:20260424T130000
DTEND;TZID=America/New_York:20260424T150000
DTSTAMP:20260424T144001
CREATED:20260107T013020Z
LAST-MODIFIED:20260107T013020Z
UID:10003199-1777035600-1777042800@uuasheville.org
SUMMARY:Reserved - LD Practice
DESCRIPTION:Reserved for music director/Sunday performance practice.\nContact: Les Downs\nEmail: music@uuasheville.org \nCalendarWiz export on Jan 6\, 2026
URL:https://uuasheville.org/event/reserved-ld-practice-201/
LOCATION:*1 Sanctuary\, 1 Edwin Place\, Asheville\, NC\, 28801\, United States
CATEGORIES:*Staff Event - LABOR
ORGANIZER;CN="Les Downs":MAILTO:music@uuasheville.org
END:VEVENT
BEGIN:VEVENT
DTSTART;TZID=America/New_York:20260424T180000
DTEND;TZID=America/New_York:20260424T210000
DTSTAMP:20260424T144001
CREATED:20260406T184629Z
LAST-MODIFIED:20260406T184629Z
UID:10003505-1777053600-1777064400@uuasheville.org
SUMMARY:Movie Night with the Environmental Action Team (EAT)
DESCRIPTION:Doors/Set up at 6\nMovie Time at 7 PM\nEnd Time/Clean Up: 9 PM\nContact: Venny Zachritz\nEmail: vpwz5258@gmail.com
URL:https://uuasheville.org/event/movie-night-with-the-environmental-action-team-eat/
LOCATION:*1 Sanctuary\, 1 Edwin Place\, Asheville\, NC\, 28801\, United States
CATEGORIES:*Justice Ministry - LIBERATION
ORGANIZER;CN="Venny Zachritz":MAILTO:vpwz5258@gmail.com
END:VEVENT
END:VCALENDAR