BEGIN:VCALENDAR
VERSION:2.0
PRODID:-//Unitarian Universalist Congregation of Asheville - ECPv6.15.20//NONSGML v1.0//EN
CALSCALE:GREGORIAN
METHOD:PUBLISH
X-WR-CALNAME:Unitarian Universalist Congregation of Asheville
X-ORIGINAL-URL:https://uuasheville.org
X-WR-CALDESC:Events for Unitarian Universalist Congregation of Asheville
REFRESH-INTERVAL;VALUE=DURATION:PT1H
X-Robots-Tag:noindex
X-PUBLISHED-TTL:PT1H
BEGIN:VTIMEZONE
TZID:America/New_York
BEGIN:DAYLIGHT
TZOFFSETFROM:-0500
TZOFFSETTO:-0400
TZNAME:EDT
DTSTART:20250309T070000
END:DAYLIGHT
BEGIN:STANDARD
TZOFFSETFROM:-0400
TZOFFSETTO:-0500
TZNAME:EST
DTSTART:20251102T060000
END:STANDARD
BEGIN:DAYLIGHT
TZOFFSETFROM:-0500
TZOFFSETTO:-0400
TZNAME:EDT
DTSTART:20260308T070000
END:DAYLIGHT
BEGIN:STANDARD
TZOFFSETFROM:-0400
TZOFFSETTO:-0500
TZNAME:EST
DTSTART:20261101T060000
END:STANDARD
BEGIN:DAYLIGHT
TZOFFSETFROM:-0500
TZOFFSETTO:-0400
TZNAME:EDT
DTSTART:20270314T070000
END:DAYLIGHT
BEGIN:STANDARD
TZOFFSETFROM:-0400
TZOFFSETTO:-0500
TZNAME:EST
DTSTART:20271107T060000
END:STANDARD
END:VTIMEZONE
BEGIN:VEVENT
DTSTART;TZID=America/New_York:20260422T080000
DTEND;TZID=America/New_York:20260422T133000
DTSTAMP:20260422T023745
CREATED:20260107T013009Z
LAST-MODIFIED:20260107T013009Z
UID:10003189-1776844800-1776864600@uuasheville.org
SUMMARY:FOM
DESCRIPTION:Friends of Mine Cooperative PreschoolMonday-Thursday\, 8 AM – 1 PM*Follows Buncombe County Schools Calendar \nContact:  Kristie Karlof\nEmail: fomteacherkk@gmail.com \nCalendarWiz export on Jan 6\, 2026
URL:https://uuasheville.org/event/fom-116/
LOCATION:Lower Level Commons\, 1 Edwin Place\, Asheville\, NC\, 28801\, United States
CATEGORIES:~Rental
END:VEVENT
BEGIN:VEVENT
DTSTART;TZID=America/New_York:20260422T130000
DTEND;TZID=America/New_York:20260422T150000
DTSTAMP:20260422T023745
CREATED:20260107T013014Z
LAST-MODIFIED:20260107T013014Z
UID:10003190-1776862800-1776870000@uuasheville.org
SUMMARY:Reserved - LD Practice
DESCRIPTION:Reserved for music director/Sunday performance practice.\nContact: Les Downs\nEmail: music@uuasheville.org \nCalendarWiz export on Jan 6\, 2026
URL:https://uuasheville.org/event/reserved-ld-practice-199/
LOCATION:*1 Sanctuary\, 1 Edwin Place\, Asheville\, NC\, 28801\, United States
CATEGORIES:*Staff Event - LABOR
ORGANIZER;CN="Les Downs":MAILTO:music@uuasheville.org
END:VEVENT
BEGIN:VEVENT
DTSTART;TZID=America/New_York:20260422T130000
DTEND;TZID=America/New_York:20260422T150000
DTSTAMP:20260422T023745
CREATED:20260107T013014Z
LAST-MODIFIED:20260107T013014Z
UID:10003191-1776862800-1776870000@uuasheville.org
SUMMARY:Faith Formation Staff
DESCRIPTION:Faith Formation Staff Meeting \nContact: Kim Collins \nCalendarWiz export on Jan 6\, 2026
URL:https://uuasheville.org/event/faith-formation-staff-31/
LOCATION:23 Ed Parlor\, 23 Edwin Place\, Asheville\, NC\, 28801\, United States
CATEGORIES:*Staff Event - LABOR
ORGANIZER;CN="Kim Collins":MAILTO:LREC@UUAsheville.org
END:VEVENT
BEGIN:VEVENT
DTSTART;TZID=America/New_York:20260422T180000
DTEND;TZID=America/New_York:20260422T183000
DTSTAMP:20260422T023745
CREATED:20260107T013014Z
LAST-MODIFIED:20260107T013014Z
UID:10003192-1776880800-1776882600@uuasheville.org
SUMMARY:SET UP FOR Multiracial Caucus - KIMC (Keep It Moving Coalition)
DESCRIPTION:6-6:30 PM Set up6:30-8:30 PM meeting8:30-9 PM Clean Up \nJustice Ministry-sponsored event \nContact: Rev. Claudia Jimenez\nEmail: faithdev@uuasheville.org \nCalendarWiz export on Jan 6\, 2026
URL:https://uuasheville.org/event/set-up-for-multiracial-caucus-kimc-keep-it-moving-coalition-4/
LOCATION:1 Sandburg Hall/Kitchen\, 1 Edwin Pl\, Asheville\, NC\, 28801\, United States
CATEGORIES:Set-up/Clean-up
ORGANIZER;CN="Rev. Claudia Jim%C3%A9nez":MAILTO:FaithDev@UUAsheville.org
END:VEVENT
BEGIN:VEVENT
DTSTART;TZID=America/New_York:20260422T203000
DTEND;TZID=America/New_York:20260422T210000
DTSTAMP:20260422T023745
CREATED:20260107T013014Z
LAST-MODIFIED:20260107T013014Z
UID:10003193-1776889800-1776891600@uuasheville.org
SUMMARY:CLEAN UP FOR Multiracial Caucus - KIMC (Keep It Moving Coalition)
DESCRIPTION:6-6:30 PM Set up6:30-8:30 PM meeting8:30-9 PM Clean Up \nJustice Ministry-sponsored event \nContact: Rev. Claudia Jimenez\nEmail: faithdev@uuasheville.org \nCalendarWiz export on Jan 6\, 2026
URL:https://uuasheville.org/event/clean-up-for-multiracial-caucus-kimc-keep-it-moving-coalition-4/
LOCATION:1 Sandburg Hall/Kitchen\, 1 Edwin Pl\, Asheville\, NC\, 28801\, United States
CATEGORIES:Set-up/Clean-up
ORGANIZER;CN="Rev. Claudia Jim%C3%A9nez":MAILTO:FaithDev@UUAsheville.org
END:VEVENT
END:VCALENDAR